BEGIN:VCALENDAR
VERSION:2.0
PRODID:-//Forest Hill Presbyterian Church - ECPv6.15.20//NONSGML v1.0//EN
CALSCALE:GREGORIAN
METHOD:PUBLISH
X-WR-CALNAME:Forest Hill Presbyterian Church
X-ORIGINAL-URL:https://fhpcrichmond.org
X-WR-CALDESC:Events for Forest Hill Presbyterian Church
REFRESH-INTERVAL;VALUE=DURATION:PT1H
X-Robots-Tag:noindex
X-PUBLISHED-TTL:PT1H
BEGIN:VTIMEZONE
TZID:America/New_York
BEGIN:DAYLIGHT
TZOFFSETFROM:-0500
TZOFFSETTO:-0400
TZNAME:EDT
DTSTART:20210314T070000
END:DAYLIGHT
BEGIN:STANDARD
TZOFFSETFROM:-0400
TZOFFSETTO:-0500
TZNAME:EST
DTSTART:20211107T060000
END:STANDARD
BEGIN:DAYLIGHT
TZOFFSETFROM:-0500
TZOFFSETTO:-0400
TZNAME:EDT
DTSTART:20220313T070000
END:DAYLIGHT
BEGIN:STANDARD
TZOFFSETFROM:-0400
TZOFFSETTO:-0500
TZNAME:EST
DTSTART:20221106T060000
END:STANDARD
BEGIN:DAYLIGHT
TZOFFSETFROM:-0500
TZOFFSETTO:-0400
TZNAME:EDT
DTSTART:20230312T070000
END:DAYLIGHT
BEGIN:STANDARD
TZOFFSETFROM:-0400
TZOFFSETTO:-0500
TZNAME:EST
DTSTART:20231105T060000
END:STANDARD
END:VTIMEZONE
BEGIN:VEVENT
DTSTART;TZID=America/New_York:20221224T160000
DTEND;TZID=America/New_York:20221224T160000
DTSTAMP:20260422T051401
CREATED:20201203T200303Z
LAST-MODIFIED:20221128T152615Z
UID:2755-1671897600-1671897600@fhpcrichmond.org
SUMMARY:Christmas Eve - Communion & Candle-light Service
DESCRIPTION:Join us for this holy and reflective service in the presence of God.  \nWe will reflect on that greatest gift of Jesus Christ\, born among us as a little baby.  Listen to the spoken word\, sing Christmas carols\, share in holy communion\, and light your candle as we welcome the coming of Christ\, our light! \nAnd may Christ’s peacethat passes understandingattend us\, waking and sleeping. \n 
URL:https://fhpcrichmond.org/event/christmas-eve-communion-candle-light-service/
LOCATION:Forest Hill Presbyterian Church\, 4401 Forest Hill Ave\, Richmond\, VA\, 23225\, United States
CATEGORIES:church calendar
ATTACH;FMTTYPE=image/jpeg:https://fhpcrichmond.org/wp-content/uploads/2020/12/Image00001.jpg
END:VEVENT
BEGIN:VEVENT
DTSTART;TZID=America/New_York:20221225T103000
DTEND;TZID=America/New_York:20221225T113000
DTSTAMP:20260422T051401
CREATED:20221128T153005Z
LAST-MODIFIED:20221128T153008Z
UID:4275-1671964200-1671967800@fhpcrichmond.org
SUMMARY:Christmas Day - Service
DESCRIPTION:Join us for a morning service celebrating the birth of Jesus.  \n  \n  \n 
URL:https://fhpcrichmond.org/event/christmas-day-service/
LOCATION:Forest Hill Presbyterian Church\, 4401 Forest Hill Ave\, Richmond\, VA\, 23225\, United States
CATEGORIES:church calendar
ATTACH;FMTTYPE=image/jpeg:https://fhpcrichmond.org/wp-content/uploads/2020/12/Image00001.jpg
END:VEVENT
END:VCALENDAR